BEGIN:VCALENDAR
VERSION:2.0
PRODID:-//Deep Release - ECPv6.15.17//NONSGML v1.0//EN
CALSCALE:GREGORIAN
METHOD:PUBLISH
X-WR-CALNAME:Deep Release
X-ORIGINAL-URL:https://deeprelease.org.uk
X-WR-CALDESC:Events for Deep Release
REFRESH-INTERVAL;VALUE=DURATION:PT1H
X-Robots-Tag:noindex
X-PUBLISHED-TTL:PT1H
BEGIN:VTIMEZONE
TZID:Europe/London
BEGIN:DAYLIGHT
TZOFFSETFROM:+0000
TZOFFSETTO:+0100
TZNAME:BST
DTSTART:20240331T010000
END:DAYLIGHT
BEGIN:STANDARD
TZOFFSETFROM:+0100
TZOFFSETTO:+0000
TZNAME:GMT
DTSTART:20241027T010000
END:STANDARD
BEGIN:DAYLIGHT
TZOFFSETFROM:+0000
TZOFFSETTO:+0100
TZNAME:BST
DTSTART:20250330T010000
END:DAYLIGHT
BEGIN:STANDARD
TZOFFSETFROM:+0100
TZOFFSETTO:+0000
TZNAME:GMT
DTSTART:20251026T010000
END:STANDARD
BEGIN:DAYLIGHT
TZOFFSETFROM:+0000
TZOFFSETTO:+0100
TZNAME:BST
DTSTART:20260329T010000
END:DAYLIGHT
BEGIN:STANDARD
TZOFFSETFROM:+0100
TZOFFSETTO:+0000
TZNAME:GMT
DTSTART:20261025T010000
END:STANDARD
END:VTIMEZONE
BEGIN:VEVENT
DTSTART;TZID=Europe/London:20251201T190000
DTEND;TZID=Europe/London:20251201T210000
DTSTAMP:20260423T215526
CREATED:20251021T134355Z
LAST-MODIFIED:20251021T134645Z
UID:10000031-1764615600-1764622800@deeprelease.org.uk
SUMMARY:FREE! WebApps Workshop
DESCRIPTION:This evening Pauline and Jeremy will give an overview and demonstrations of the webapps now available for you to use in your online counselling sessions. There are some new ones we are really looking forward to sharing with you\, and it will also be an opportunity for you to ask questions and get support. \nYou don’t even have to be a subscriber – all those attending the live workshop will be given a temporary link to access the apps and try them out! So be sure to have your laptop charged and ready. \nDon’t miss this exciting new event! See you there!
URL:https://deeprelease.org.uk/event/free-webapps-workshop/
CATEGORIES:Training
ATTACH;FMTTYPE=image/png:https://deeprelease.org.uk/wp-content/uploads/2025/10/ADVERT-FOR-DEC-2025-WORKSHOP-scaled.png
ORGANIZER;CN="Deep Release Ltd":MAILTO:info@deeprelease.org.uk
LOCATION:https://deeprelease.org.uk/event/free-webapps-workshop/
END:VEVENT
END:VCALENDAR